BEGIN:VCALENDAR
VERSION:2.0
PRODID:-//Valentim Filipe - Tudo isto é fado - ECPv6.15.20//NONSGML v1.0//EN
CALSCALE:GREGORIAN
METHOD:PUBLISH
X-WR-CALNAME:Valentim Filipe - Tudo isto é fado
X-ORIGINAL-URL:https://www.tudoistoefado.com
X-WR-CALDESC:Eventos para Valentim Filipe - Tudo isto é fado
REFRESH-INTERVAL;VALUE=DURATION:PT1H
X-Robots-Tag:noindex
X-PUBLISHED-TTL:PT1H
BEGIN:VTIMEZONE
TZID:UTC
BEGIN:STANDARD
TZOFFSETFROM:+0000
TZOFFSETTO:+0000
TZNAME:UTC
DTSTART:20250101T000000
END:STANDARD
END:VTIMEZONE
BEGIN:VEVENT
DTSTART;TZID=UTC:20260110T203000
DTEND;TZID=UTC:20260110T233000
DTSTAMP:20260419T133255
CREATED:20260112T105807Z
LAST-MODIFIED:20260112T105831Z
UID:21098-1768077000-1768087800@www.tudoistoefado.com
SUMMARY:Noite de Fados- Paderne
DESCRIPTION:
URL:https://www.tudoistoefado.com/evento/noite-de-fados-paderne/
LOCATION:Paderne
CATEGORIES:Noite de Fados
ATTACH;FMTTYPE=image/jpeg:https://www.tudoistoefado.com/wp-content/uploads/IMG-20260106-WA0004.jpg
END:VEVENT
BEGIN:VEVENT
DTSTART;TZID=UTC:20260124T200000
DTEND;TZID=UTC:20260124T230000
DTSTAMP:20260419T133255
CREATED:20260119T100241Z
LAST-MODIFIED:20260119T100241Z
UID:21107-1769284800-1769295600@www.tudoistoefado.com
SUMMARY:Beatriz Pereira - Restaurante Tipsee Turtles - Almancil
DESCRIPTION:
URL:https://www.tudoistoefado.com/evento/beatriz-pereira-restaurante-tipsee-turtles-almancil/
LOCATION:Restaurante Tipsee Turtles\, Estrada de Vale do Lobo - Almancil\, Loulé\, Algarve
CATEGORIES:Jantar com fado
ATTACH;FMTTYPE=image/jpeg:https://www.tudoistoefado.com/wp-content/uploads/Cartaz-setembro-2025-1.jpg
END:VEVENT
BEGIN:VEVENT
DTSTART;TZID=UTC:20260130T200000
DTEND;TZID=UTC:20260130T230000
DTSTAMP:20260419T133255
CREATED:20260126T133924Z
LAST-MODIFIED:20260126T133944Z
UID:21116-1769803200-1769814000@www.tudoistoefado.com
SUMMARY:Melissa Simplício - Moto Malta Faro
DESCRIPTION:
URL:https://www.tudoistoefado.com/evento/melissa-simplicio-moto-malta-faro/
LOCATION:Moto Malta – Faro\, Faro\, Faro\, Algarve
CATEGORIES:Concerto
ATTACH;FMTTYPE=image/jpeg:https://www.tudoistoefado.com/wp-content/uploads/616161845_122120583123118793_7066884129537558804_n.jpg
END:VEVENT
BEGIN:VEVENT
DTSTART;TZID=UTC:20260131T210000
DTEND;TZID=UTC:20260131T230000
DTSTAMP:20260419T133255
CREATED:20260112T110216Z
LAST-MODIFIED:20260126T134137Z
UID:21102-1769893200-1769900400@www.tudoistoefado.com
SUMMARY:Al Mouraria - Festa das Chouriças - Querença
DESCRIPTION:
URL:https://www.tudoistoefado.com/evento/al-mouraria-festa-das-chouricas-querenca/
LOCATION:Casa do Povo\, Querença\, Loulé\, Algarve
CATEGORIES:Concerto,Espectáculos
ATTACH;FMTTYPE=image/jpeg:https://www.tudoistoefado.com/wp-content/uploads/mour-chour.jpg
END:VEVENT
END:VCALENDAR