BEGIN:VCALENDAR
VERSION:2.0
PRODID:-//Valentim Filipe - Tudo isto é fado - ECPv6.15.20//NONSGML v1.0//EN
CALSCALE:GREGORIAN
METHOD:PUBLISH
X-WR-CALNAME:Valentim Filipe - Tudo isto é fado
X-ORIGINAL-URL:https://www.tudoistoefado.com
X-WR-CALDESC:Eventos para Valentim Filipe - Tudo isto é fado
REFRESH-INTERVAL;VALUE=DURATION:PT1H
X-Robots-Tag:noindex
X-PUBLISHED-TTL:PT1H
BEGIN:VTIMEZONE
TZID:UTC
BEGIN:STANDARD
TZOFFSETFROM:+0000
TZOFFSETTO:+0000
TZNAME:UTC
DTSTART:20230101T000000
END:STANDARD
END:VTIMEZONE
BEGIN:VEVENT
DTSTART;TZID=UTC:20241002T203000
DTEND;TZID=UTC:20241002T223000
DTSTAMP:20260426T015326
CREATED:20240930T093611Z
LAST-MODIFIED:20240930T095737Z
UID:20446-1727901000-1727908200@www.tudoistoefado.com
SUMMARY:Noite de Fado com Alexandra Viana - Hotel Porto Bay - Albufeira
DESCRIPTION:
URL:https://www.tudoistoefado.com/evento/noite-de-fado-com-alexandra-viana-hotel-porto-bay-albufeira-6/
LOCATION:Hotel “Porto Bay”\, Quinta Do Milharó\, Olhos de Água\, Albufeira\, Faro\, 8200-591\, Portugal
CATEGORIES:Jantar com fado
ATTACH;FMTTYPE=image/jpeg:https://www.tudoistoefado.com/wp-content/uploads/alexandra-02-out.jpg
END:VEVENT
BEGIN:VEVENT
DTSTART;TZID=UTC:20241005T210000
DTEND;TZID=UTC:20241005T220000
DTSTAMP:20260426T015326
CREATED:20240930T100250Z
LAST-MODIFIED:20240930T100323Z
UID:20449-1728162000-1728165600@www.tudoistoefado.com
SUMMARY:Inês Gonçalves - Alcoutim
DESCRIPTION:Inês Gonçalves actua no Espaço Guadiana em Alcoutim\nSábado 05 Outubro pelas 21h.
URL:https://www.tudoistoefado.com/evento/ines-goncalves-alcoutim/
LOCATION:Espaço Guadiana – Alcoutim\, Alcoutim\, Algarve
CATEGORIES:Concerto
ATTACH;FMTTYPE=image/jpeg:https://www.tudoistoefado.com/wp-content/uploads/ines-Goncalves-v.jpg
END:VEVENT
BEGIN:VEVENT
DTSTART;TZID=UTC:20241009T203000
DTEND;TZID=UTC:20241009T223000
DTSTAMP:20260426T015326
CREATED:20241007T125458Z
LAST-MODIFIED:20241007T125539Z
UID:20455-1728505800-1728513000@www.tudoistoefado.com
SUMMARY:Noite de Fado com Alexandra Viana - Hotel Porto Bay - Albufeira
DESCRIPTION:
URL:https://www.tudoistoefado.com/evento/noite-de-fado-com-alexandra-viana-hotel-porto-bay-albufeira-7/
LOCATION:Hotel “Porto Bay”\, Quinta Do Milharó\, Olhos de Água\, Albufeira\, Faro\, 8200-591\, Portugal
CATEGORIES:Jantar com fado
ATTACH;FMTTYPE=image/jpeg:https://www.tudoistoefado.com/wp-content/uploads/alex-o9-out.jpg
END:VEVENT
BEGIN:VEVENT
DTSTART;TZID=UTC:20241016T203000
DTEND;TZID=UTC:20241016T223000
DTSTAMP:20260426T015326
CREATED:20241015T103440Z
LAST-MODIFIED:20241015T103456Z
UID:20466-1729110600-1729117800@www.tudoistoefado.com
SUMMARY:Noite de Fado com Alexandra Viana - Hotel Porto Bay - Albufeira
DESCRIPTION:
URL:https://www.tudoistoefado.com/evento/noite-de-fado-com-alexandra-viana-hotel-porto-bay-albufeira-8/
LOCATION:Hotel “Porto Bay”\, Quinta Do Milharó\, Olhos de Água\, Albufeira\, Faro\, 8200-591\, Portugal
CATEGORIES:Jantar com fado
ATTACH;FMTTYPE=image/jpeg:https://www.tudoistoefado.com/wp-content/uploads/16-out-alex.jpg
END:VEVENT
BEGIN:VEVENT
DTSTART;TZID=UTC:20241019T210000
DTEND;TZID=UTC:20241019T230000
DTSTAMP:20260426T015326
CREATED:20241015T092708Z
LAST-MODIFIED:20241015T094538Z
UID:20459-1729371600-1729378800@www.tudoistoefado.com
SUMMARY:Noite de Fados - Teresa Viola e Luís Manhita- Cooperativa Agrícola e Cultural Montes Novos
DESCRIPTION:Noite de Fados com os fadistas Teresa Viola e Luís Manhita acompanhados por Valentim Filipe e Tiago Valentim.
URL:https://www.tudoistoefado.com/evento/noite-de-fados-teresa-viola-cooperativa-agricola-e-cultural-montes-novos/
LOCATION:Cooperativa Agrícola e Cultural Montes Novos\, Salir\, Loulé\, Algarve
CATEGORIES:Noite de Fados
ATTACH;FMTTYPE=image/jpeg:https://www.tudoistoefado.com/wp-content/uploads/IMG-20241003-WA0002.jpg
END:VEVENT
BEGIN:VEVENT
DTSTART;TZID=UTC:20241022T193000
DTEND;TZID=UTC:20241022T223000
DTSTAMP:20260426T015326
CREATED:20241021T130224Z
LAST-MODIFIED:20241021T130248Z
UID:20475-1729625400-1729636200@www.tudoistoefado.com
SUMMARY:Noite de Fado com Beatriz Pereira
DESCRIPTION:
URL:https://www.tudoistoefado.com/evento/noite-de-fado-com-beatriz-pereira/
LOCATION:Atipico
CATEGORIES:Noite de Fados
ATTACH;FMTTYPE=image/jpeg:https://www.tudoistoefado.com/wp-content/uploads/IMG-20241020-WA0007-1.jpg
END:VEVENT
BEGIN:VEVENT
DTSTART;TZID=UTC:20241023T203000
DTEND;TZID=UTC:20241023T223000
DTSTAMP:20260426T015326
CREATED:20241021T093438Z
LAST-MODIFIED:20241021T093632Z
UID:20469-1729715400-1729722600@www.tudoistoefado.com
SUMMARY:Noite de Fado com Alexandra Viana - Hotel Porto Bay - Albufeira
DESCRIPTION:
URL:https://www.tudoistoefado.com/evento/noite-de-fado-com-alexandra-viana-hotel-porto-bay-albufeira-9/
LOCATION:Hotel “Porto Bay”\, Quinta Do Milharó\, Olhos de Água\, Albufeira\, Faro\, 8200-591\, Portugal
CATEGORIES:Jantar com fado
ATTACH;FMTTYPE=image/jpeg:https://www.tudoistoefado.com/wp-content/uploads/alex-2-23-out.jpg
END:VEVENT
BEGIN:VEVENT
DTSTART;TZID=UTC:20241025T203000
DTEND;TZID=UTC:20241025T223000
DTSTAMP:20260426T015326
CREATED:20241021T094121Z
LAST-MODIFIED:20241021T094129Z
UID:20472-1729888200-1729895400@www.tudoistoefado.com
SUMMARY:Noite de Fado - Restaurante Memórias - Albufeira
DESCRIPTION:Noite de fado com a fadista Tatiana Pinto\nMúsicos : Valentim Filipe e Manuel D’Avó
URL:https://www.tudoistoefado.com/evento/noite-de-fado-restaurante-memorias-albufeira-3/
LOCATION:Restaurante Memórias – Albufeira\, Rua Miguel Torga\, Albufeira\, Algarve\, 8200-161\, Portugal
CATEGORIES:Jantar com fado
ATTACH;FMTTYPE=image/jpeg:https://www.tudoistoefado.com/wp-content/uploads/IMG-20241020-WA0006.jpg
END:VEVENT
END:VCALENDAR