BEGIN:VCALENDAR
VERSION:2.0
PRODID:-//Valentim Filipe - Tudo isto é fado - ECPv6.15.20//NONSGML v1.0//EN
CALSCALE:GREGORIAN
METHOD:PUBLISH
X-ORIGINAL-URL:https://www.tudoistoefado.com
X-WR-CALDESC:Eventos para Valentim Filipe - Tudo isto é fado
REFRESH-INTERVAL;VALUE=DURATION:PT1H
X-Robots-Tag:noindex
X-PUBLISHED-TTL:PT1H
BEGIN:VTIMEZONE
TZID:UTC
BEGIN:STANDARD
TZOFFSETFROM:+0000
TZOFFSETTO:+0000
TZNAME:UTC
DTSTART:20240101T000000
END:STANDARD
END:VTIMEZONE
BEGIN:VEVENT
DTSTART;TZID=UTC:20250429T210000
DTEND;TZID=UTC:20250429T230000
DTSTAMP:20260421T214147
CREATED:20250414T102547Z
LAST-MODIFIED:20250414T102547Z
UID:20665-1745960400-1745967600@www.tudoistoefado.com
SUMMARY:Al Mouraria - Vila Vita - Armaçao Pêra
DESCRIPTION:
URL:https://www.tudoistoefado.com/evento/al-mouraria-vila-vita-armacao-pera/
LOCATION:Vila Vita\, Armação de Pêra\, Algarve
CATEGORIES:Concerto
ATTACH;FMTTYPE=image/jpeg:https://www.tudoistoefado.com/wp-content/uploads/al-mouraria-quartet-2.jpg
END:VEVENT
BEGIN:VEVENT
DTSTART;TZID=UTC:20250430T200000
DTEND;TZID=UTC:20250430T230000
DTSTAMP:20260421T214147
CREATED:20250505T113642Z
LAST-MODIFIED:20250505T120405Z
UID:20721-1746043200-1746054000@www.tudoistoefado.com
SUMMARY:Noite de Fado com Alexandra Viana – Hotel Porto Bay – Albufeira
DESCRIPTION:
URL:https://www.tudoistoefado.com/evento/noite-de-fado-com-alexandra-viana-hotel-porto-bay-albufeira-20/
LOCATION:Hotel “Porto Bay”\, Quinta Do Milharó\, Olhos de Água\, Albufeira\, Faro\, 8200-591\, Portugal
CATEGORIES:Jantar com fado
END:VEVENT
BEGIN:VEVENT
DTSTART;TZID=UTC:20250507T200000
DTEND;TZID=UTC:20250507T223000
DTSTAMP:20260421T214147
CREATED:20250505T113505Z
LAST-MODIFIED:20250505T113519Z
UID:20718-1746648000-1746657000@www.tudoistoefado.com
SUMMARY:Noite de Fado com Alexandra Viana – Hotel Porto Bay – Albufeira
DESCRIPTION:
URL:https://www.tudoistoefado.com/evento/noite-de-fado-com-alexandra-viana-hotel-porto-bay-albufeira-19/
LOCATION:Hotel “Porto Bay”\, Quinta Do Milharó\, Olhos de Água\, Albufeira\, Faro\, 8200-591\, Portugal
CATEGORIES:Jantar com fado
ATTACH;FMTTYPE=image/jpeg:https://www.tudoistoefado.com/wp-content/uploads/alex-2.jpg
END:VEVENT
BEGIN:VEVENT
DTSTART;TZID=UTC:20250510T200000
DTEND;TZID=UTC:20250510T230000
DTSTAMP:20260421T214147
CREATED:20250505T120921Z
LAST-MODIFIED:20250505T122249Z
UID:20723-1746907200-1746918000@www.tudoistoefado.com
SUMMARY:Adriana Marques - Restaurante " O Castelo " - Caldas de Monchique
DESCRIPTION:
URL:https://www.tudoistoefado.com/evento/adriana-marques-restaurante-o-castelo-caldas-de-monchique/
LOCATION:Restaurante “O Castelo “\, Caldas de Monchique
CATEGORIES:Jantar com fado
ATTACH;FMTTYPE=image/jpeg:https://www.tudoistoefado.com/wp-content/uploads/IMG-20250504-WA0000.jpg
END:VEVENT
BEGIN:VEVENT
DTSTART;TZID=UTC:20250511T180000
DTEND;TZID=UTC:20250511T193000
DTSTAMP:20260421T214147
CREATED:20250505T112037Z
LAST-MODIFIED:20250505T112037Z
UID:20715-1746986400-1746991800@www.tudoistoefado.com
SUMMARY:Fado na Igreja Matriz – Boliqueime
DESCRIPTION:Fado na Igreja Matriz de Boliqueime com a voz de Beatriz Pereira\nGuitarra: Valentim Filipe\nViola : João Arrobe
URL:https://www.tudoistoefado.com/evento/fado-na-igreja-matriz-boliqueime-2/
LOCATION:Igreja Matriz de Boliqueime\, Boliqueime
CATEGORIES:Concerto
ATTACH;FMTTYPE=image/jpeg:https://www.tudoistoefado.com/wp-content/uploads/Cartaz-igreja.jpg
END:VEVENT
BEGIN:VEVENT
DTSTART;TZID=UTC:20250512T200000
DTEND;TZID=UTC:20250512T223000
DTSTAMP:20260421T214147
CREATED:20250512T103759Z
LAST-MODIFIED:20250512T103759Z
UID:20735-1747080000-1747089000@www.tudoistoefado.com
SUMMARY:João Leote - Hotel Cerro Mar
DESCRIPTION:
URL:https://www.tudoistoefado.com/evento/joao-leote-hotel-cerro-mar/
LOCATION:Hotel Cerro Mar\, Albufeira\, Algarve
ATTACH;FMTTYPE=image/jpeg:https://www.tudoistoefado.com/wp-content/uploads/386556787_649965563911039_1866863990571049084_n.jpg
END:VEVENT
BEGIN:VEVENT
DTSTART;TZID=UTC:20250514T200000
DTEND;TZID=UTC:20250514T233000
DTSTAMP:20260421T214147
CREATED:20250512T103313Z
LAST-MODIFIED:20250512T103313Z
UID:20732-1747252800-1747265400@www.tudoistoefado.com
SUMMARY:Noite de Fado com Alexandra Viana – Hotel Porto Bay – Albufeira
DESCRIPTION:
URL:https://www.tudoistoefado.com/evento/noite-de-fado-com-alexandra-viana-hotel-porto-bay-albufeira-21/
LOCATION:Hotel Porto Bay\, Olhos d' Água\, Albufeira\, Algarve\, Portugal
CATEGORIES:Noite de Fados
ATTACH;FMTTYPE=image/jpeg:https://www.tudoistoefado.com/wp-content/uploads/Cartaz-maio-2025.jpg
END:VEVENT
BEGIN:VEVENT
DTSTART;TZID=UTC:20250515T190000
DTEND;TZID=UTC:20250515T233000
DTSTAMP:20260421T214147
CREATED:20250512T120708Z
LAST-MODIFIED:20250512T122211Z
UID:20747-1747335600-1747351800@www.tudoistoefado.com
SUMMARY:Ana Paulino - Restaurante Vila com Tradição - Vilamoura
DESCRIPTION:Músicos : Valentim Filipe e João Arrobe
URL:https://www.tudoistoefado.com/evento/ana-paulino-restaurante-vila-com-tradicao-vilamoura/
LOCATION:Restaurante ” Vila com Tradição”\, Vilamoura
CATEGORIES:Noite de Fados
ATTACH;FMTTYPE=image/jpeg:https://www.tudoistoefado.com/wp-content/uploads/Ana-Paulino-2-1.jpg
END:VEVENT
BEGIN:VEVENT
DTSTART;TZID=UTC:20250521T200000
DTEND;TZID=UTC:20250521T230000
DTSTAMP:20260421T214147
CREATED:20250519T102554Z
LAST-MODIFIED:20250519T102815Z
UID:20757-1747857600-1747868400@www.tudoistoefado.com
SUMMARY:Noite de Fado com Alexandra Viana – Hotel Porto Bay – Albufeira
DESCRIPTION:
URL:https://www.tudoistoefado.com/evento/noite-de-fado-com-alexandra-viana-hotel-porto-bay-albufeira-22/
LOCATION:Hotel “Porto Bay”\, Quinta Do Milharó\, Olhos de Água\, Albufeira\, Faro\, 8200-591\, Portugal
CATEGORIES:Jantar com fado
ATTACH;FMTTYPE=image/jpeg:https://www.tudoistoefado.com/wp-content/uploads/alex-maio.jpg
END:VEVENT
BEGIN:VEVENT
DTSTART;TZID=UTC:20250523T210000
DTEND;TZID=UTC:20250523T230000
DTSTAMP:20260421T214147
CREATED:20250512T120141Z
LAST-MODIFIED:20250519T112057Z
UID:20743-1748034000-1748041200@www.tudoistoefado.com
SUMMARY:Marco Rodrigues canta Carlos do Carmo - Fado ao Sul - Vilamoura
DESCRIPTION:21h – Alexandra Viana
URL:https://www.tudoistoefado.com/evento/marco-rodrigues-canta-carlos-do-carmo-vilamoura/
LOCATION:Jardim das Comunidades – Almancil\, Almancil\, Algarve
CATEGORIES:Concerto,Eventos
ATTACH;FMTTYPE=image/jpeg:https://www.tudoistoefado.com/wp-content/uploads/marco2.jpg
END:VEVENT
BEGIN:VEVENT
DTSTART;TZID=UTC:20250528T200000
DTEND;TZID=UTC:20250528T230000
DTSTAMP:20260421T214147
CREATED:20250526T120201Z
LAST-MODIFIED:20250526T120201Z
UID:20766-1748462400-1748473200@www.tudoistoefado.com
SUMMARY:Noite de Fado com Alexandra Viana – Hotel Porto Bay – Albufeira
DESCRIPTION:
URL:https://www.tudoistoefado.com/evento/noite-de-fado-com-alexandra-viana-hotel-porto-bay-albufeira-23/
LOCATION:Hotel Porto Bay\, Olhos d' Água\, Albufeira\, Algarve\, Portugal
CATEGORIES:Noite de Fados
ATTACH;FMTTYPE=image/jpeg:https://www.tudoistoefado.com/wp-content/uploads/alex-3.jpg
END:VEVENT
BEGIN:VEVENT
DTSTART;TZID=UTC:20250601T180000
DTEND;TZID=UTC:20250601T190000
DTSTAMP:20260421T214147
CREATED:20250526T120733Z
LAST-MODIFIED:20250526T121723Z
UID:20771-1748800800-1748804400@www.tudoistoefado.com
SUMMARY:Fado na Igreja Matriz de Boliqueime
DESCRIPTION:Fado na Igreja Matriz de Boliqueime com a voz de Vânia Rodrigues\nGuitarra: Valentim Filipe\nViola : Nuno Martins
URL:https://www.tudoistoefado.com/evento/fado-na-igreja-matriz-de-boliqueime/
LOCATION:Igreja Matriz de Boliqueime\, Boliqueime
CATEGORIES:Fado na Igreja
ATTACH;FMTTYPE=image/jpeg:https://www.tudoistoefado.com/wp-content/uploads/499716040_1273811964746403_5967002766485274242_n-1.jpg
END:VEVENT
BEGIN:VEVENT
DTSTART;TZID=UTC:20250614T203000
DTEND;TZID=UTC:20250614T230000
DTSTAMP:20260421T214147
CREATED:20250609T092123Z
LAST-MODIFIED:20250609T092139Z
UID:20790-1749933000-1749942000@www.tudoistoefado.com
SUMMARY:Noite de Fados - Restaurante O Alentejano - Portimão
DESCRIPTION:
URL:https://www.tudoistoefado.com/evento/noite-de-fados-restaurante-o-alentejano-portimao/
LOCATION:Restaurante ” O Alentejano”\, Largo Gil Eanes\, 6\, Portimão\, Algarve
CATEGORIES:Noite de Fados
ATTACH;FMTTYPE=image/jpeg:https://www.tudoistoefado.com/wp-content/uploads/IMG-20250603-WA0000.jpg
END:VEVENT
BEGIN:VEVENT
DTSTART;TZID=UTC:20250615T190000
DTEND;TZID=UTC:20250615T213000
DTSTAMP:20260421T214147
CREATED:20250609T090923Z
LAST-MODIFIED:20250609T090923Z
UID:20783-1750014000-1750023000@www.tudoistoefado.com
SUMMARY:Valentim Filipe – Instrumentais em Guitarra Portuguesa – Hotel Cascade – Porto de Mós – Lagos
DESCRIPTION:
URL:https://www.tudoistoefado.com/evento/valentim-filipe-instrumentais-em-guitarra-portuguesa-hotel-cascade-porto-de-mos-lagos/
LOCATION:Hotel Cascade Wellness Resort –  Porto de Mós – Lagos\, Lagos\, Algarve
CATEGORIES:Instrumentais em Guitarra Portuguesa
ATTACH;FMTTYPE=image/jpeg:https://www.tudoistoefado.com/wp-content/uploads/val.jpg
END:VEVENT
BEGIN:VEVENT
DTSTART;TZID=UTC:20250620T203000
DTEND;TZID=UTC:20250620T233000
DTSTAMP:20260421T214147
CREATED:20250609T091458Z
LAST-MODIFIED:20250609T091627Z
UID:20786-1750451400-1750462200@www.tudoistoefado.com
SUMMARY:Vira Milho Lounge & Bar - Noite de Fado
DESCRIPTION:
URL:https://www.tudoistoefado.com/evento/vira-milho-lounge-bar-noite-de-fado/
LOCATION:Vira Milho – Lounge & Bar\, Olhos d' Água\, Albufeira\, Algarve
CATEGORIES:Noite de Fados
ATTACH;FMTTYPE=application/pdf:https://www.tudoistoefado.com/wp-content/uploads/Novo-Cartaz-Fado-concerto-20-de-Junho-2025.pdf
END:VEVENT
BEGIN:VEVENT
DTSTART;TZID=UTC:20250622T190000
DTEND;TZID=UTC:20250622T213000
DTSTAMP:20260421T214148
CREATED:20250626T144353Z
LAST-MODIFIED:20250626T144353Z
UID:20811-1750618800-1750627800@www.tudoistoefado.com
SUMMARY:Valentim Filipe – Instrumentais em Guitarra Portuguesa – Hotel Cascade – Porto de Mós – Lagos
DESCRIPTION:
URL:https://www.tudoistoefado.com/evento/valentim-filipe-instrumentais-em-guitarra-portuguesa-hotel-cascade-porto-de-mos-lagos-3/
LOCATION:Hotel Cascade Wellness Resort –  Porto de Mós – Lagos\, Lagos\, Algarve
CATEGORIES:Guitarra Portuguesa a solo
END:VEVENT
BEGIN:VEVENT
DTSTART;TZID=UTC:20250629T190000
DTEND;TZID=UTC:20250629T213000
DTSTAMP:20260421T214148
CREATED:20250626T144149Z
LAST-MODIFIED:20250626T144209Z
UID:20808-1751223600-1751232600@www.tudoistoefado.com
SUMMARY:Valentim Filipe – Instrumentais em Guitarra Portuguesa – Hotel Cascade – Porto de Mós – Lagos
DESCRIPTION:
URL:https://www.tudoistoefado.com/evento/valentim-filipe-instrumentais-em-guitarra-portuguesa-hotel-cascade-porto-de-mos-lagos-2/
LOCATION:Hotel Cascade Wellness Resort –  Porto de Mós – Lagos\, Lagos\, Algarve
CATEGORIES:Guitarra Portuguesa a solo
ATTACH;FMTTYPE=image/jpeg:https://www.tudoistoefado.com/wp-content/uploads/val-29-junho.jpg
END:VEVENT
BEGIN:VEVENT
DTSTART;TZID=UTC:20250630T220000
DTEND;TZID=UTC:20250630T233000
DTSTAMP:20260421T214148
CREATED:20250217T134611Z
LAST-MODIFIED:20250217T134611Z
UID:20589-1751320800-1751326200@www.tudoistoefado.com
SUMMARY:Al Mouraria - Alte
DESCRIPTION:Evento privado
URL:https://www.tudoistoefado.com/evento/al-mouraria-alte/
LOCATION:Alte\, Alte\, Loulé
CATEGORIES:Evento Privado
ATTACH;FMTTYPE=image/jpeg:https://www.tudoistoefado.com/wp-content/uploads/368037875_5885254488243355_6287591698604438328_n.jpg
END:VEVENT
BEGIN:VEVENT
DTSTART;TZID=UTC:20250703T140000
DTEND;TZID=UTC:20250706T230000
DTSTAMP:20260421T214148
CREATED:20250630T130939Z
LAST-MODIFIED:20250630T130939Z
UID:20825-1751551200-1751842800@www.tudoistoefado.com
SUMMARY:Valentim Filipe - Instrumentais a solo - Lagoa
DESCRIPTION:
URL:https://www.tudoistoefado.com/evento/valentim-filipe-instrumentais-a-solo-lagoa/
LOCATION:Convento de S. José\, Lagoa\, Lagoa
CATEGORIES:Instrumentais em Guitarra Portuguesa
ATTACH;FMTTYPE=image/png:https://www.tudoistoefado.com/wp-content/uploads/Valentim-Filipe-Lagoa-Julho_V2.png
END:VEVENT
BEGIN:VEVENT
DTSTART;TZID=UTC:20250703T160000
DTEND;TZID=UTC:20250706T230000
DTSTAMP:20260421T214148
CREATED:20250707T141755Z
LAST-MODIFIED:20250707T141755Z
UID:20839-1751558400-1751842800@www.tudoistoefado.com
SUMMARY:Mercado de Culturas - Lagoa
DESCRIPTION:Sala de exposições do Convento de S.José
URL:https://www.tudoistoefado.com/evento/mercado-de-culturas-lagoa/
LOCATION:Mercado de Culturas – Lagoa\, Lagoa\, Algarve\, Portugal
CATEGORIES:Guitarra Portuguesa a solo
ATTACH;FMTTYPE=image/jpeg:https://www.tudoistoefado.com/wp-content/uploads/513891581_1146510840851719_1934758752665586617_n.jpg
END:VEVENT
BEGIN:VEVENT
DTSTART;TZID=UTC:20250703T210000
DTEND;TZID=UTC:20250703T233000
DTSTAMP:20260421T214148
CREATED:20250630T103124Z
LAST-MODIFIED:20250630T103124Z
UID:20821-1751576400-1751585400@www.tudoistoefado.com
SUMMARY:Albufeira - Beco Lisboa - Restaurante - Vânia Rofrigues
DESCRIPTION:
URL:https://www.tudoistoefado.com/evento/albufeira-beco-lisboa-restaurante-vania-rofrigues/
LOCATION:Restaurante “Beco Lisboa”\, Rua Alexandre Herculano\, 12 F\, Albufeira\, Algarve
CATEGORIES:Noite de Fados
ATTACH;FMTTYPE=image/jpeg:https://www.tudoistoefado.com/wp-content/uploads/514091869_2196744090782013_2050904259629412019_n.jpg
END:VEVENT
BEGIN:VEVENT
DTSTART;TZID=UTC:20250704T193000
DTEND;TZID=UTC:20250705T213000
DTSTAMP:20260421T214148
CREATED:20250626T155643Z
LAST-MODIFIED:20250626T155643Z
UID:20814-1751657400-1751751000@www.tudoistoefado.com
SUMMARY:Faro - Açoteias - Restaurante Vila Adentro .
DESCRIPTION:Faro – Açoteias – Vila Adentro\nFado ao vivo com a participação de : Helder Coelho\, Teresa Viola\, Alexandra Viana e Rui de Sousa.
URL:https://www.tudoistoefado.com/evento/faro-acoteias-restaurante-vila-adentro/
LOCATION:Restaurante Vila Adenteo\, Largo D. Afonso III\, Faro\, Algarve
CATEGORIES:Eventos
ATTACH;FMTTYPE=image/jpeg:https://www.tudoistoefado.com/wp-content/uploads/2-2-scaled.jpg
END:VEVENT
BEGIN:VEVENT
DTSTART;TZID=UTC:20250706T190000
DTEND;TZID=UTC:20250706T213000
DTSTAMP:20260421T214148
CREATED:20250630T102601Z
LAST-MODIFIED:20250707T152937Z
UID:20818-1751828400-1751837400@www.tudoistoefado.com
SUMMARY:Hotel Cascade - Porto de Mós - Lagos - Tiago Valentim
DESCRIPTION:
URL:https://www.tudoistoefado.com/evento/hotel-cascade-porto-de-mos-lagos-tiago-vlentim/
LOCATION:Hotel Cascade Wellness Resort –  Porto de Mós – Lagos\, Lagos\, Algarve
CATEGORIES:A solo
ATTACH;FMTTYPE=image/jpeg:https://www.tudoistoefado.com/wp-content/uploads/Cartaz-tiago-julho-2025.jpg
END:VEVENT
BEGIN:VEVENT
DTSTART;TZID=UTC:20250708T210000
DTEND;TZID=UTC:20250708T233000
DTSTAMP:20260421T214148
CREATED:20250707T180102Z
LAST-MODIFIED:20250707T180951Z
UID:20847-1752008400-1752017400@www.tudoistoefado.com
SUMMARY:Tiago Valentim - Restaurante Beco Lisboa - Albufeira
DESCRIPTION:
URL:https://www.tudoistoefado.com/evento/tiago-valentim-restaurante-beco-lisboa-albufeira/
LOCATION:Restaurante “Beco Lisboa”\, Rua Alexandre Herculano\, 12 F\, Albufeira\, Algarve\, 8200-269
CATEGORIES:Serões Musicais
ATTACH;FMTTYPE=image/jpeg:https://www.tudoistoefado.com/wp-content/uploads/tiago-08-julho.jpg
END:VEVENT
BEGIN:VEVENT
DTSTART;TZID=UTC:20250713T190000
DTEND;TZID=UTC:20250713T220000
DTSTAMP:20260421T214148
CREATED:20250707T151105Z
LAST-MODIFIED:20250707T151105Z
UID:20843-1752433200-1752444000@www.tudoistoefado.com
SUMMARY:Hotel Cascade – Porto de Mós – Lagos – Valentim Filipe
DESCRIPTION:
URL:https://www.tudoistoefado.com/evento/hotel-cascade-porto-de-mos-lagos-valentim-filipe/
LOCATION:Hotel Cascade Wellness Resort –  Porto de Mós – Lagos\, Lagos\, Algarve
CATEGORIES:Guitarra Portuguesa a solo
ATTACH;FMTTYPE=image/jpeg:https://www.tudoistoefado.com/wp-content/uploads/13-julho.jpg
END:VEVENT
BEGIN:VEVENT
DTSTART;TZID=UTC:20250719T213000
DTEND;TZID=UTC:20250719T233000
DTSTAMP:20260421T214148
CREATED:20250707T181501Z
LAST-MODIFIED:20250707T181501Z
UID:20852-1752960600-1752967800@www.tudoistoefado.com
SUMMARY:Concerto de Fado - Largo da Igreja -  Boliqueime
DESCRIPTION:
URL:https://www.tudoistoefado.com/evento/concerto-de-fado-largo-da-igreja-boliqueime/
LOCATION:Largo da Igreja de Boliqueime
CATEGORIES:Concerto
ATTACH;FMTTYPE=image/jpeg:https://www.tudoistoefado.com/wp-content/uploads/rectificado-boliqueime.jpg
END:VEVENT
BEGIN:VEVENT
DTSTART;TZID=UTC:20250720T193000
DTEND;TZID=UTC:20250720T223000
DTSTAMP:20260421T214148
CREATED:20250714T122817Z
LAST-MODIFIED:20250714T123401Z
UID:20864-1753039800-1753050600@www.tudoistoefado.com
SUMMARY:Hotel Cascade – Porto de Mós – Lagos – Valentim Filipe
DESCRIPTION:
URL:https://www.tudoistoefado.com/evento/hotel-cascade-porto-de-mos-lagos-valentim-filipe-2/
LOCATION:Hotel Cascade Wellness Resort –  Porto de Mós – Lagos\, Lagos\, Algarve
CATEGORIES:Guitarra Portuguesa a solo
ATTACH;FMTTYPE=image/jpeg:https://www.tudoistoefado.com/wp-content/uploads/20-julho-val.jpg
END:VEVENT
BEGIN:VEVENT
DTSTART;TZID=UTC:20250727T193000
DTEND;TZID=UTC:20250727T223000
DTSTAMP:20260421T214148
CREATED:20250714T123614Z
LAST-MODIFIED:20250714T123631Z
UID:20867-1753644600-1753655400@www.tudoistoefado.com
SUMMARY:Hotel Cascade – Porto de Mós – Lagos – Tiago Valentim
DESCRIPTION:
URL:https://www.tudoistoefado.com/evento/hotel-cascade-porto-de-mos-lagos-tiago-valentim/
LOCATION:Hotel Cascade Wellness Resort –  Porto de Mós – Lagos\, Lagos\, Algarve
CATEGORIES:A solo
ATTACH;FMTTYPE=image/jpeg:https://www.tudoistoefado.com/wp-content/uploads/Cartaz-27-julho-tia2025.jpg
END:VEVENT
BEGIN:VEVENT
DTSTART;TZID=UTC:20250728T200000
DTEND;TZID=UTC:20250728T223000
DTSTAMP:20260421T214148
CREATED:20250714T130711Z
LAST-MODIFIED:20250714T130711Z
UID:20875-1753732800-1753741800@www.tudoistoefado.com
SUMMARY:Mikki's Place - Pêra
DESCRIPTION:
URL:https://www.tudoistoefado.com/evento/mikkis-place-pera/
LOCATION:Mikki’s Place\, Rua de Areias de Pêra\, 700 A\, Armação de Pêra\, Algarve\, 8365-201
CATEGORIES:Jantar com fado
ATTACH;FMTTYPE=image/jpeg:https://www.tudoistoefado.com/wp-content/uploads/Pera-3.jpg
END:VEVENT
BEGIN:VEVENT
DTSTART;TZID=UTC:20250729T203000
DTEND;TZID=UTC:20250729T230000
DTSTAMP:20260421T214148
CREATED:20250728T111453Z
LAST-MODIFIED:20250728T123914Z
UID:20916-1753821000-1753830000@www.tudoistoefado.com
SUMMARY:Restaurante Celestina Resto Brunch - Gambelas - Montenegro - Faro
DESCRIPTION:CELESTINA RESTO BRUNCH – Gambelas – Faro\n Reservas : 939038449 ou 925417549 .
URL:https://www.tudoistoefado.com/evento/20916/
LOCATION:Restaurante Celestina Resto Brunch\, Rua Abel Viana\, 83 - Gambelas\, Faro\, Algarve
CATEGORIES:Jantar com fado
ATTACH;FMTTYPE=image/jpeg:https://www.tudoistoefado.com/wp-content/uploads/476646705_663144419477290_6086236751804035536_n.jpg
END:VEVENT
END:VCALENDAR