BEGIN:VCALENDAR
VERSION:2.0
PRODID:-//Valentim Filipe - Tudo isto é fado - ECPv6.15.20//NONSGML v1.0//EN
CALSCALE:GREGORIAN
METHOD:PUBLISH
X-ORIGINAL-URL:https://www.tudoistoefado.com
X-WR-CALDESC:Eventos para Valentim Filipe - Tudo isto é fado
REFRESH-INTERVAL;VALUE=DURATION:PT1H
X-Robots-Tag:noindex
X-PUBLISHED-TTL:PT1H
BEGIN:VTIMEZONE
TZID:UTC
BEGIN:STANDARD
TZOFFSETFROM:+0000
TZOFFSETTO:+0000
TZNAME:UTC
DTSTART:20240101T000000
END:STANDARD
END:VTIMEZONE
BEGIN:VEVENT
DTSTART;TZID=UTC:20251121T210000
DTEND;TZID=UTC:20251121T230000
DTSTAMP:20260420T050237
CREATED:20251119T095004Z
LAST-MODIFIED:20251119T095004Z
UID:21059-1763758800-1763766000@www.tudoistoefado.com
SUMMARY:Grande Noite de Fado - Club Farense
DESCRIPTION:Grande Noite de Fado no Club Farense em Faro. Actuações de Argentina Freire e Luís Manhita.
URL:https://www.tudoistoefado.com/evento/grande-noite-de-fado-club-farense/
LOCATION:Club Farense\, Faro
CATEGORIES:Noite de Fados
ATTACH;FMTTYPE=image/jpeg:https://www.tudoistoefado.com/wp-content/uploads/transferir-3.jpg
END:VEVENT
END:VCALENDAR