BEGIN:VCALENDAR
VERSION:2.0
PRODID:-//Valentim Filipe - Tudo isto é fado - ECPv6.15.20//NONSGML v1.0//EN
CALSCALE:GREGORIAN
METHOD:PUBLISH
X-ORIGINAL-URL:https://www.tudoistoefado.com
X-WR-CALDESC:Eventos para Valentim Filipe - Tudo isto é fado
REFRESH-INTERVAL;VALUE=DURATION:PT1H
X-Robots-Tag:noindex
X-PUBLISHED-TTL:PT1H
BEGIN:VTIMEZONE
TZID:UTC
BEGIN:STANDARD
TZOFFSETFROM:+0000
TZOFFSETTO:+0000
TZNAME:UTC
DTSTART:20240101T000000
END:STANDARD
END:VTIMEZONE
BEGIN:VEVENT
DTSTART;TZID=UTC:20250828T200000
DTEND;TZID=UTC:20250828T230000
DTSTAMP:20260420T080218
CREATED:20250825T092741Z
LAST-MODIFIED:20250825T092741Z
UID:20954-1756411200-1756422000@www.tudoistoefado.com
SUMMARY:Noite de fados com Melissa Simplício -  Restaurante Celestina -  Gambelas- Faro
DESCRIPTION:Celestina Restobrunch\n Gambelas- Faro Quinta feira\, 28 de agosto!\nNoite de fados\, reservas : 937554231 939038449
URL:https://www.tudoistoefado.com/evento/noite-de-fados-com-melissa-simplicio-restaurante-celestina-gambelas-faro/
LOCATION:Restaurante Celestina\, Gambelas -\, Faro\, Algarve
CATEGORIES:Noite de Fados
ATTACH;FMTTYPE=image/jpeg:https://www.tudoistoefado.com/wp-content/uploads/81d4d2c4-e623-4f54-8341-3e2db788aa37.jpg
END:VEVENT
END:VCALENDAR