BEGIN:VCALENDAR
VERSION:2.0
PRODID:-//Valentim Filipe - Tudo isto é fado - ECPv6.15.20//NONSGML v1.0//EN
CALSCALE:GREGORIAN
METHOD:PUBLISH
X-ORIGINAL-URL:https://www.tudoistoefado.com
X-WR-CALDESC:Eventos para Valentim Filipe - Tudo isto é fado
REFRESH-INTERVAL;VALUE=DURATION:PT1H
X-Robots-Tag:noindex
X-PUBLISHED-TTL:PT1H
BEGIN:VTIMEZONE
TZID:UTC
BEGIN:STANDARD
TZOFFSETFROM:+0000
TZOFFSETTO:+0000
TZNAME:UTC
DTSTART:20250101T000000
END:STANDARD
END:VTIMEZONE
BEGIN:VEVENT
DTSTART;TZID=UTC:20260313T200000
DTEND;TZID=UTC:20260313T233000
DTSTAMP:20260419T170007
CREATED:20260302T104225Z
LAST-MODIFIED:20260302T135913Z
UID:21144-1773432000-1773444600@www.tudoistoefado.com
SUMMARY:Melissa Simplício - Restaurante Flor da Ameixa - Alface - Bordeira
DESCRIPTION:
URL:https://www.tudoistoefado.com/evento/melissa-simplicio-restaurante-flor-da-ameixa-estoi/
LOCATION:Restaurante Flor da Ameixa\, Lagos e Relvas - Estoi\, Algarve
CATEGORIES:Noite de Fados
ATTACH;FMTTYPE=image/jpeg:https://www.tudoistoefado.com/wp-content/uploads/rrrrCartaz-Janeiro-2026-1.jpg
END:VEVENT
BEGIN:VEVENT
DTSTART;TZID=UTC:20260314T200000
DTEND;TZID=UTC:20260314T230000
DTSTAMP:20260419T170007
CREATED:20260302T135713Z
LAST-MODIFIED:20260302T135713Z
UID:21151-1773518400-1773529200@www.tudoistoefado.com
SUMMARY:Noite de Fados - Restaurante Turtle
DESCRIPTION:
URL:https://www.tudoistoefado.com/evento/noite-de-fados-restaurante-turtle/
LOCATION:Restaurante Tipsee Turtles\, Estrada de Vale do Lobo - Almancil\, Loulé\, Algarve
CATEGORIES:Noite de Fados
ATTACH;FMTTYPE=image/jpeg:https://www.tudoistoefado.com/wp-content/uploads/vania-novo.jpg
END:VEVENT
BEGIN:VEVENT
DTSTART;TZID=UTC:20260321T203000
DTEND;TZID=UTC:20260321T233000
DTSTAMP:20260419T170007
CREATED:20260316T134827Z
LAST-MODIFIED:20260316T135428Z
UID:21168-1774125000-1774135800@www.tudoistoefado.com
SUMMARY:Isa de Brito – Restaurante ZigZag-Tunes
DESCRIPTION:
URL:https://www.tudoistoefado.com/evento/isa-de-brito-restaurante-zigzag-tunes/
LOCATION:Restaurante ZigZag\, Tunes\, Algarve
CATEGORIES:Noite de Fados
ATTACH;FMTTYPE=image/jpeg:https://www.tudoistoefado.com/wp-content/uploads/Screenshot_20260316_124001_WhatsApp.jpg
END:VEVENT
END:VCALENDAR