BEGIN:VCALENDAR
VERSION:2.0
PRODID:-//Valentim Filipe - Tudo isto é fado - ECPv6.15.20//NONSGML v1.0//EN
CALSCALE:GREGORIAN
METHOD:PUBLISH
X-WR-CALNAME:Valentim Filipe - Tudo isto é fado
X-ORIGINAL-URL:https://www.tudoistoefado.com
X-WR-CALDESC:Eventos para Valentim Filipe - Tudo isto é fado
REFRESH-INTERVAL;VALUE=DURATION:PT1H
X-Robots-Tag:noindex
X-PUBLISHED-TTL:PT1H
BEGIN:VTIMEZONE
TZID:UTC
BEGIN:STANDARD
TZOFFSETFROM:+0000
TZOFFSETTO:+0000
TZNAME:UTC
DTSTART:20240101T000000
END:STANDARD
END:VTIMEZONE
BEGIN:VEVENT
DTSTART;TZID=UTC:20250614T203000
DTEND;TZID=UTC:20250614T230000
DTSTAMP:20260420T091100
CREATED:20250609T092123Z
LAST-MODIFIED:20250609T092139Z
UID:20790-1749933000-1749942000@www.tudoistoefado.com
SUMMARY:Noite de Fados - Restaurante O Alentejano - Portimão
DESCRIPTION:
URL:https://www.tudoistoefado.com/evento/noite-de-fados-restaurante-o-alentejano-portimao/
LOCATION:Restaurante ” O Alentejano”\, Largo Gil Eanes\, 6\, Portimão\, Algarve
CATEGORIES:Noite de Fados
ATTACH;FMTTYPE=image/jpeg:https://www.tudoistoefado.com/wp-content/uploads/IMG-20250603-WA0000.jpg
END:VEVENT
BEGIN:VEVENT
DTSTART;TZID=UTC:20250620T203000
DTEND;TZID=UTC:20250620T233000
DTSTAMP:20260420T091100
CREATED:20250609T091458Z
LAST-MODIFIED:20250609T091627Z
UID:20786-1750451400-1750462200@www.tudoistoefado.com
SUMMARY:Vira Milho Lounge & Bar - Noite de Fado
DESCRIPTION:
URL:https://www.tudoistoefado.com/evento/vira-milho-lounge-bar-noite-de-fado/
LOCATION:Vira Milho – Lounge & Bar\, Olhos d' Água\, Albufeira\, Algarve
CATEGORIES:Noite de Fados
ATTACH;FMTTYPE=application/pdf:https://www.tudoistoefado.com/wp-content/uploads/Novo-Cartaz-Fado-concerto-20-de-Junho-2025.pdf
END:VEVENT
END:VCALENDAR