BEGIN:VCALENDAR
VERSION:2.0
PRODID:-//Valentim Filipe - Tudo isto é fado - ECPv6.15.20//NONSGML v1.0//EN
CALSCALE:GREGORIAN
METHOD:PUBLISH
X-WR-CALNAME:Valentim Filipe - Tudo isto é fado
X-ORIGINAL-URL:https://www.tudoistoefado.com
X-WR-CALDESC:Eventos para Valentim Filipe - Tudo isto é fado
REFRESH-INTERVAL;VALUE=DURATION:PT1H
X-Robots-Tag:noindex
X-PUBLISHED-TTL:PT1H
BEGIN:VTIMEZONE
TZID:UTC
BEGIN:STANDARD
TZOFFSETFROM:+0000
TZOFFSETTO:+0000
TZNAME:UTC
DTSTART:20250101T000000
END:STANDARD
END:VTIMEZONE
BEGIN:VEVENT
DTSTART;TZID=UTC:20260320T200000
DTEND;TZID=UTC:20260320T233000
DTSTAMP:20260421T162248
CREATED:20260323T112545Z
LAST-MODIFIED:20260323T112615Z
UID:21172-1774036800-1774049400@www.tudoistoefado.com
SUMMARY:Luís Manhita - Hotel Rocha Vau
DESCRIPTION:
URL:https://www.tudoistoefado.com/evento/luis-manhita-hotel-rocha-vau/
LOCATION:Hotel Rocha Vau\, Portimão
CATEGORIES:Jantar com fado
ATTACH;FMTTYPE=image/jpeg:https://www.tudoistoefado.com/wp-content/uploads/650033361_1368947671941367_790533072404914857_n.jpg
END:VEVENT
END:VCALENDAR