BEGIN:VCALENDAR
VERSION:2.0
PRODID:-//Valentim Filipe - Tudo isto é fado - ECPv6.15.20//NONSGML v1.0//EN
CALSCALE:GREGORIAN
METHOD:PUBLISH
X-WR-CALNAME:Valentim Filipe - Tudo isto é fado
X-ORIGINAL-URL:https://www.tudoistoefado.com
X-WR-CALDESC:Eventos para Valentim Filipe - Tudo isto é fado
REFRESH-INTERVAL;VALUE=DURATION:PT1H
X-Robots-Tag:noindex
X-PUBLISHED-TTL:PT1H
BEGIN:VTIMEZONE
TZID:UTC
BEGIN:STANDARD
TZOFFSETFROM:+0000
TZOFFSETTO:+0000
TZNAME:UTC
DTSTART:20230101T000000
END:STANDARD
END:VTIMEZONE
BEGIN:VEVENT
DTSTART;TZID=UTC:20241009T203000
DTEND;TZID=UTC:20241009T223000
DTSTAMP:20260421T131441
CREATED:20241007T125458Z
LAST-MODIFIED:20241007T125539Z
UID:20455-1728505800-1728513000@www.tudoistoefado.com
SUMMARY:Noite de Fado com Alexandra Viana - Hotel Porto Bay - Albufeira
DESCRIPTION:
URL:https://www.tudoistoefado.com/evento/noite-de-fado-com-alexandra-viana-hotel-porto-bay-albufeira-7/
LOCATION:Hotel “Porto Bay”\, Quinta Do Milharó\, Olhos de Água\, Albufeira\, Faro\, 8200-591\, Portugal
CATEGORIES:Jantar com fado
ATTACH;FMTTYPE=image/jpeg:https://www.tudoistoefado.com/wp-content/uploads/alex-o9-out.jpg
END:VEVENT
END:VCALENDAR