BEGIN:VCALENDAR
VERSION:2.0
PRODID:-//Valentim Filipe - Tudo isto é fado - ECPv6.15.20//NONSGML v1.0//EN
CALSCALE:GREGORIAN
METHOD:PUBLISH
X-ORIGINAL-URL:https://www.tudoistoefado.com
X-WR-CALDESC:Eventos para Valentim Filipe - Tudo isto é fado
REFRESH-INTERVAL;VALUE=DURATION:PT1H
X-Robots-Tag:noindex
X-PUBLISHED-TTL:PT1H
BEGIN:VTIMEZONE
TZID:UTC
BEGIN:STANDARD
TZOFFSETFROM:+0000
TZOFFSETTO:+0000
TZNAME:UTC
DTSTART:20240101T000000
END:STANDARD
END:VTIMEZONE
BEGIN:VEVENT
DTSTART;TZID=UTC:20250823T210000
DTEND;TZID=UTC:20250823T230000
DTSTAMP:20260419T175632
CREATED:20250804T104932Z
LAST-MODIFIED:20250804T105001Z
UID:20932-1755982800-1755990000@www.tudoistoefado.com
SUMMARY:Al Mouraria em Lagoa ( Evento Privado)
DESCRIPTION:
URL:https://www.tudoistoefado.com/evento/al-mouraria-em-lagoa-evento-privado/
LOCATION:Lagoa\, Algarve
CATEGORIES:Festa Privada
ATTACH;FMTTYPE=image/gif:https://www.tudoistoefado.com/wp-content/uploads/23-e-27-agosto-2025.gif
END:VEVENT
END:VCALENDAR