BEGIN:VCALENDAR
VERSION:2.0
PRODID:-//Valentim Filipe - Tudo isto é fado - ECPv6.15.20//NONSGML v1.0//EN
CALSCALE:GREGORIAN
METHOD:PUBLISH
X-WR-CALNAME:Valentim Filipe - Tudo isto é fado
X-ORIGINAL-URL:https://www.tudoistoefado.com
X-WR-CALDESC:Eventos para Valentim Filipe - Tudo isto é fado
REFRESH-INTERVAL;VALUE=DURATION:PT1H
X-Robots-Tag:noindex
X-PUBLISHED-TTL:PT1H
BEGIN:VTIMEZONE
TZID:UTC
BEGIN:STANDARD
TZOFFSETFROM:+0000
TZOFFSETTO:+0000
TZNAME:UTC
DTSTART:20250101T000000
END:STANDARD
END:VTIMEZONE
BEGIN:VEVENT
DTSTART;TZID=UTC:20260425T193000
DTEND;TZID=UTC:20260425T220000
DTSTAMP:20260425T013211
CREATED:20260420T094942Z
LAST-MODIFIED:20260420T094942Z
UID:21199-1777145400-1777154400@www.tudoistoefado.com
SUMMARY:Melissa Simplício - Hotel Rural Quinta do Marco
DESCRIPTION:
URL:https://www.tudoistoefado.com/evento/melissa-simplicio-hotel-rural-quinta-do-marco/
LOCATION:Hotel Rural Quinta do Marco\, Santa Catarina da Fonte do Bispo\, Tavira\, Algarve\, 8800 164
CATEGORIES:Noite de Fados
ATTACH;FMTTYPE=image/jpeg:https://www.tudoistoefado.com/wp-content/uploads/25-abril-IMG-20260413-WA0002.jpg
END:VEVENT
END:VCALENDAR