BEGIN:VCALENDAR
VERSION:2.0
PRODID:-//Valentim Filipe - Tudo isto é fado - ECPv6.15.20//NONSGML v1.0//EN
CALSCALE:GREGORIAN
METHOD:PUBLISH
X-WR-CALNAME:Valentim Filipe - Tudo isto é fado
X-ORIGINAL-URL:https://www.tudoistoefado.com
X-WR-CALDESC:Eventos para Valentim Filipe - Tudo isto é fado
REFRESH-INTERVAL;VALUE=DURATION:PT1H
X-Robots-Tag:noindex
X-PUBLISHED-TTL:PT1H
BEGIN:VTIMEZONE
TZID:UTC
BEGIN:STANDARD
TZOFFSETFROM:+0000
TZOFFSETTO:+0000
TZNAME:UTC
DTSTART:20240101T000000
END:STANDARD
END:VTIMEZONE
BEGIN:VEVENT
DTSTART;TZID=UTC:20250426T200000
DTEND;TZID=UTC:20250426T230000
DTSTAMP:20260421T151246
CREATED:20250414T083318Z
LAST-MODIFIED:20250421T110639Z
UID:20653-1745697600-1745708400@www.tudoistoefado.com
SUMMARY:Jantar com Fados - Restaurante Zé do Norte - Sitio de Selões - Loulé
DESCRIPTION:Actuações de Melissa Simpício e César Matoso.
URL:https://www.tudoistoefado.com/evento/jantar-com-fados-sitio-de-seloes-loule/
LOCATION:Restaurante Zé do Norte\, Loulé\, Algarve
CATEGORIES:Jantar com fado
ATTACH;FMTTYPE=image/jpeg:https://www.tudoistoefado.com/wp-content/uploads/IMG-20250407-WA0002.jpg
END:VEVENT
END:VCALENDAR