BEGIN:VCALENDAR
VERSION:2.0
PRODID:-//Valentim Filipe - Tudo isto é fado - ECPv6.15.20//NONSGML v1.0//EN
CALSCALE:GREGORIAN
METHOD:PUBLISH
X-WR-CALNAME:Valentim Filipe - Tudo isto é fado
X-ORIGINAL-URL:https://www.tudoistoefado.com
X-WR-CALDESC:Eventos para Valentim Filipe - Tudo isto é fado
REFRESH-INTERVAL;VALUE=DURATION:PT1H
X-Robots-Tag:noindex
X-PUBLISHED-TTL:PT1H
BEGIN:VTIMEZONE
TZID:UTC
BEGIN:STANDARD
TZOFFSETFROM:+0000
TZOFFSETTO:+0000
TZNAME:UTC
DTSTART:20240101T000000
END:STANDARD
END:VTIMEZONE
BEGIN:VEVENT
DTSTART;TZID=UTC:20250419T203000
DTEND;TZID=UTC:20250419T230000
DTSTAMP:20260421T151225
CREATED:20250417T165938Z
LAST-MODIFIED:20250417T165938Z
UID:20687-1745094600-1745103600@www.tudoistoefado.com
SUMMARY:Vânia Rodrigues - Restaurante Vila com Tradição - Quarteira
DESCRIPTION:Fados ao Jantar
URL:https://www.tudoistoefado.com/evento/vania-rodrigues-restaurante-vila-com-tradicao-quarteira/
LOCATION:Restaurante “Vila com Tradiçâo”\, Quarteira\, Algarve
CATEGORIES:Jantar com fado
ATTACH;FMTTYPE=image/jpeg:https://www.tudoistoefado.com/wp-content/uploads/vania-Rodrigues-1-5.jpg
END:VEVENT
END:VCALENDAR