BEGIN:VCALENDAR
VERSION:2.0
PRODID:-//Valentim Filipe - Tudo isto é fado - ECPv6.15.20//NONSGML v1.0//EN
CALSCALE:GREGORIAN
METHOD:PUBLISH
X-WR-CALNAME:Valentim Filipe - Tudo isto é fado
X-ORIGINAL-URL:https://www.tudoistoefado.com
X-WR-CALDESC:Eventos para Valentim Filipe - Tudo isto é fado
REFRESH-INTERVAL;VALUE=DURATION:PT1H
X-Robots-Tag:noindex
X-PUBLISHED-TTL:PT1H
BEGIN:VTIMEZONE
TZID:UTC
BEGIN:STANDARD
TZOFFSETFROM:+0000
TZOFFSETTO:+0000
TZNAME:UTC
DTSTART:20240101T000000
END:STANDARD
END:VTIMEZONE
BEGIN:VEVENT
DTSTART;TZID=UTC:20250413T173000
DTEND;TZID=UTC:20250413T183000
DTSTAMP:20260421T151244
CREATED:20250414T084233Z
LAST-MODIFIED:20250414T084251Z
UID:20657-1744565400-1744569000@www.tudoistoefado.com
SUMMARY:Concerto com Juan SantaMaria - Igreja Boa Hora - Parragil
DESCRIPTION:
URL:https://www.tudoistoefado.com/evento/concerto-com-juan-santamaria-igreja-boa-hora-parragil/
LOCATION:Igreja da Boa Hora – Parragil\, Loulé\, Algarve
CATEGORIES:Concerto
ATTACH;FMTTYPE=image/jpeg:https://www.tudoistoefado.com/wp-content/uploads/489628688_1081403707362433_4736239923967630899_n.jpg
END:VEVENT
BEGIN:VEVENT
DTSTART;TZID=UTC:20250413T200000
DTEND;TZID=UTC:20250413T233000
DTSTAMP:20260421T151244
CREATED:20250417T165332Z
LAST-MODIFIED:20250417T165345Z
UID:20683-1744574400-1744587000@www.tudoistoefado.com
SUMMARY:Jantar comemorativo 13º Aniversário da Associação de Fado do Algarve
DESCRIPTION:
URL:https://www.tudoistoefado.com/evento/jantar-comemorativo-13o-aniversario-da-associacao-de-fado-do-algarve/
LOCATION:Restaurante ” O Museu”\, Boliqueime
CATEGORIES:Jantar com fado
ATTACH;FMTTYPE=image/jpeg:https://www.tudoistoefado.com/wp-content/uploads/489627631_9489475931087493_7209747756180832530_n.jpg
END:VEVENT
END:VCALENDAR