BEGIN:VCALENDAR
VERSION:2.0
PRODID:-//Valentim Filipe - Tudo isto é fado - ECPv6.15.20//NONSGML v1.0//EN
CALSCALE:GREGORIAN
METHOD:PUBLISH
X-ORIGINAL-URL:https://www.tudoistoefado.com
X-WR-CALDESC:Eventos para Valentim Filipe - Tudo isto é fado
REFRESH-INTERVAL;VALUE=DURATION:PT1H
X-Robots-Tag:noindex
X-PUBLISHED-TTL:PT1H
BEGIN:VTIMEZONE
TZID:UTC
BEGIN:STANDARD
TZOFFSETFROM:+0000
TZOFFSETTO:+0000
TZNAME:UTC
DTSTART:20240101T000000
END:STANDARD
END:VTIMEZONE
BEGIN:VEVENT
DTSTART;TZID=UTC:20250412T190000
DTEND;TZID=UTC:20250412T200000
DTSTAMP:20260421T151341
CREATED:20250407T091531Z
LAST-MODIFIED:20250407T091531Z
UID:20644-1744484400-1744488000@www.tudoistoefado.com
SUMMARY:Noite de fado - Patrícia do Carmo - Silves
DESCRIPTION:Noite de fado com Patrícia do Carmo.\nGuitarra Portuguesa : Valentim Filipe\nViola de fado : João Arrobe
URL:https://www.tudoistoefado.com/evento/noite-de-fado-patricia-do-carmo-silves/
LOCATION:O Cais – Silves\, Silves\, Algarve
CATEGORIES:Noite de Fados
ATTACH;FMTTYPE=image/jpeg:https://www.tudoistoefado.com/wp-content/uploads/IMG-20250327-WA0005.jpg
END:VEVENT
END:VCALENDAR