BEGIN:VCALENDAR
VERSION:2.0
PRODID:-//Valentim Filipe - Tudo isto é fado - ECPv6.15.20//NONSGML v1.0//EN
CALSCALE:GREGORIAN
METHOD:PUBLISH
X-ORIGINAL-URL:https://www.tudoistoefado.com
X-WR-CALDESC:Eventos para Valentim Filipe - Tudo isto é fado
REFRESH-INTERVAL;VALUE=DURATION:PT1H
X-Robots-Tag:noindex
X-PUBLISHED-TTL:PT1H
BEGIN:VTIMEZONE
TZID:UTC
BEGIN:STANDARD
TZOFFSETFROM:+0000
TZOFFSETTO:+0000
TZNAME:UTC
DTSTART:20230101T000000
END:STANDARD
END:VTIMEZONE
BEGIN:VEVENT
DTSTART;TZID=UTC:20241121T210000
DTEND;TZID=UTC:20241121T233000
DTSTAMP:20260421T135135
CREATED:20241111T105818Z
LAST-MODIFIED:20241111T105818Z
UID:20513-1732222800-1732231800@www.tudoistoefado.com
SUMMARY:Al Mouraria - Casa do Alentejo - Lisboa
DESCRIPTION:
URL:https://www.tudoistoefado.com/evento/al-mouraria-casa-do-alentejo-lisboa/
LOCATION:Casa do Alentejo\, Lisboa\, Portugal
CATEGORIES:Concerto
ATTACH;FMTTYPE=image/jpeg:https://www.tudoistoefado.com/wp-content/uploads/Cartaz-al-mou.jpg
END:VEVENT
END:VCALENDAR