BEGIN:VCALENDAR
VERSION:2.0
PRODID:-//Valentim Filipe - Tudo isto é fado - ECPv6.15.20//NONSGML v1.0//EN
CALSCALE:GREGORIAN
METHOD:PUBLISH
X-ORIGINAL-URL:https://www.tudoistoefado.com
X-WR-CALDESC:Eventos para Valentim Filipe - Tudo isto é fado
REFRESH-INTERVAL;VALUE=DURATION:PT1H
X-Robots-Tag:noindex
X-PUBLISHED-TTL:PT1H
BEGIN:VTIMEZONE
TZID:UTC
BEGIN:STANDARD
TZOFFSETFROM:+0000
TZOFFSETTO:+0000
TZNAME:UTC
DTSTART:20230101T000000
END:STANDARD
END:VTIMEZONE
BEGIN:VEVENT
DTSTART;TZID=UTC:20240922T190000
DTEND;TZID=UTC:20240922T223000
DTSTAMP:20260425T173920
CREATED:20240916T124832Z
LAST-MODIFIED:20240916T124832Z
UID:20423-1727031600-1727044200@www.tudoistoefado.com
SUMMARY:Tiago Valentim a Solo – Hotel Cascade – Porto de Mós – Lagos
DESCRIPTION:
URL:https://www.tudoistoefado.com/evento/tiago-valentim-a-solo-hotel-cascade-porto-de-mos-lagos-4/
LOCATION:Hotel Cascade Wellness Resort –  Porto de Mós – Lagos\, Lagos\, Algarve
CATEGORIES:A solo
ATTACH;FMTTYPE=image/jpeg:https://www.tudoistoefado.com/wp-content/uploads/22-set.jpg
END:VEVENT
END:VCALENDAR