BEGIN:VCALENDAR
VERSION:2.0
PRODID:-//Valentim Filipe - Tudo isto é fado - ECPv6.15.20//NONSGML v1.0//EN
CALSCALE:GREGORIAN
METHOD:PUBLISH
X-WR-CALNAME:Valentim Filipe - Tudo isto é fado
X-ORIGINAL-URL:https://www.tudoistoefado.com
X-WR-CALDESC:Eventos para Valentim Filipe - Tudo isto é fado
REFRESH-INTERVAL;VALUE=DURATION:PT1H
X-Robots-Tag:noindex
X-PUBLISHED-TTL:PT1H
BEGIN:VTIMEZONE
TZID:UTC
BEGIN:STANDARD
TZOFFSETFROM:+0000
TZOFFSETTO:+0000
TZNAME:UTC
DTSTART:20230101T000000
END:STANDARD
END:VTIMEZONE
BEGIN:VEVENT
DTSTART;TZID=UTC:20240918T130000
DTEND;TZID=UTC:20240919T163000
DTSTAMP:20260425T144907
CREATED:20240916T125234Z
LAST-MODIFIED:20240916T125243Z
UID:20426-1726664400-1726763400@www.tudoistoefado.com
SUMMARY:Valentim Filipe - instrumentais - Quinta do Mel- Açoteias- Albufeira
DESCRIPTION:
URL:https://www.tudoistoefado.com/evento/valentim-filipe-instrumentais-quinta-do-mel-acoteias-albufeira/
LOCATION:Quinta do Mel\, Açoteias\, Albufeira\, Algarve
ATTACH;FMTTYPE=image/png:https://www.tudoistoefado.com/wp-content/uploads/52259357_656850328051621_7056782699284922368_o-1.png
END:VEVENT
BEGIN:VEVENT
DTSTART;TZID=UTC:20240919T210000
DTEND;TZID=UTC:20240919T230000
DTSTAMP:20260425T144907
CREATED:20240902T122352Z
LAST-MODIFIED:20240902T122359Z
UID:20407-1726779600-1726786800@www.tudoistoefado.com
SUMMARY:Al Mouraria - Templo - Teatro Municipal de Portimão
DESCRIPTION:
URL:https://www.tudoistoefado.com/evento/al-mouraria-templo-teatro-municipal-de-portimao/
LOCATION:Templo – Teatro Municipal de Portimão\, Portimão\, Algarve
CATEGORIES:Concerto
ATTACH;FMTTYPE=image/jpeg:https://www.tudoistoefado.com/wp-content/uploads/al-mouraria-19-sets.jpg
END:VEVENT
END:VCALENDAR