BEGIN:VCALENDAR
VERSION:2.0
PRODID:-//Valentim Filipe - Tudo isto é fado - ECPv6.15.20//NONSGML v1.0//EN
CALSCALE:GREGORIAN
METHOD:PUBLISH
X-WR-CALNAME:Valentim Filipe - Tudo isto é fado
X-ORIGINAL-URL:https://www.tudoistoefado.com
X-WR-CALDESC:Eventos para Valentim Filipe - Tudo isto é fado
REFRESH-INTERVAL;VALUE=DURATION:PT1H
X-Robots-Tag:noindex
X-PUBLISHED-TTL:PT1H
BEGIN:VTIMEZONE
TZID:UTC
BEGIN:STANDARD
TZOFFSETFROM:+0000
TZOFFSETTO:+0000
TZNAME:UTC
DTSTART:20230101T000000
END:STANDARD
END:VTIMEZONE
BEGIN:VEVENT
DTSTART;TZID=UTC:20240910T193000
DTEND;TZID=UTC:20240910T223000
DTSTAMP:20260426T040826
CREATED:20240909T093746Z
LAST-MODIFIED:20240909T093817Z
UID:20413-1725996600-1726007400@www.tudoistoefado.com
SUMMARY:Valentim Filipe - Guitarra Portuguesa a Solo – Hotel Palmares Beach House – Lagos
DESCRIPTION:
URL:https://www.tudoistoefado.com/evento/valentim-filipe-guitarra-portuguesa-a-solo-hotel-palmares-beach-house-lagos-5/
LOCATION:Hotel Palmares Beach House\, Lagos
CATEGORIES:Guitarra Portuguesa a solo
ATTACH;FMTTYPE=image/jpeg:https://www.tudoistoefado.com/wp-content/uploads/palm-10-set-val.jpg
END:VEVENT
END:VCALENDAR